BEGIN:VCALENDAR
VERSION:2.0
PRODID:Events Booking
BEGIN:VEVENT
UID:69e624407fc96
SUMMARY:Der digitale Schulvertrag
DESCRIPTION:Mit Rechtsanwalt Maik Wünsche\, Fachanwalt für Arbeitsrecht\,
  der Hamburger Kanzlei Hauenschild\, Schütt\, Wünsche &amp\; Machts\, ge
 ben wir in diesem Online-Fachseminar einen rechtlichen Überblick wie \"De
 r digitale Schulvertrag\" korrekt gestaltet werden kann und sollte\, damit
  es später nicht zu einem unnötigen Rechtsstreit kommt.
DTSTART:20240612T120000Z
DTEND:20240612T140000Z
DTSTAMP:20240425T061540Z
ORGANIZER;CN=VDP Nord e.V.:MAILTO:info@vdpnord.de
END:VEVENT
END:VCALENDAR