BEGIN:VCALENDAR
VERSION:2.0
PRODID:Events Booking
BEGIN:VEVENT
UID:69e515655de7f
SUMMARY:Sitzung der VDP Fachgruppe Sprachenschulen
DESCRIPTION:Liebe Mitglieder der Fachgruppe Sprachenschulen\,wir laden Sie 
  - wie bereits angekündigt -  herzlich ein zur nächsten Sitzung der Fa
 chgruppe Sprachenschulen.
 Termin: Mittwoch\, 11. März 2026Uhrzeit: 13:0
 0–15:00 Uhr (virtuell)
DTSTART:20260311T120000Z
DTEND:20260311T140000Z
DTSTAMP:20260305T115000Z
ORGANIZER;CN=VDP Nord e.V.:MAILTO:info@vdpnord.de
END:VEVENT
END:VCALENDAR