BEGIN:VCALENDAR
VERSION:2.0
PRODID:Events Booking
BEGIN:VEVENT
UID:69e4d5493505f
SUMMARY:VDP Fachgruppensitzung Sprachenschulen
DESCRIPTION:Die Pläne für gekürzte Haushaltsmittel im Bereich Integratio
 nskurse und Berufssprachkurse sowie die aktuell noch vorläufige Haushalts
 führung durch das Scheitern der Ampel-Regierung bedrohen den Umfang des 
 „Gesamtprogramms Sprache“. Berufssprach- und Integrationskurse stehen 
 vor einem Wendepunkt\, der u.a. durch eine massive Unterfinanzierung diese
 s Bereichs verursacht wird.
DTSTART:20250129T090000Z
DTEND:20250129T110000Z
DTSTAMP:20250122T074208Z
ORGANIZER;CN=VDP Nord e.V.:MAILTO:info@vdpnord.de
END:VEVENT
END:VCALENDAR